BEGIN:VCALENDAR
VERSION:2.0
PRODID:-//eventon.com NONSGML v1.0//EN
BEGIN:VEVENT
UID:69e5ee9f0b525
DTSTAMP:20260420T051511
DTSTART:20190916T120000Z
DTEND:20190916T190000Z
LOCATION:The Globe The Globe and Mail Centre 351 King Street East Suite 1600\,  Toronto\,  Ontario M5A 0L6
SUMMARY:Roots of Empathy Research Symposium
DESCRIPTION: Roots of Empathy Research Symposium
END:VEVENT
END:VCALENDAR